BEGIN:VCALENDAR
VERSION:2.0
PRODID:-//Amis du Jumelage Saint-Germain-en-Laye / Ayr - ECPv6.15.20//NONSGML v1.0//EN
CALSCALE:GREGORIAN
METHOD:PUBLISH
X-ORIGINAL-URL:https://jumelage-stgermain-ayr.fr
X-WR-CALDESC:Évènements pour Amis du Jumelage Saint-Germain-en-Laye / Ayr
REFRESH-INTERVAL;VALUE=DURATION:PT1H
X-Robots-Tag:noindex
X-PUBLISHED-TTL:PT1H
BEGIN:VTIMEZONE
TZID:Europe/Paris
BEGIN:DAYLIGHT
TZOFFSETFROM:+0100
TZOFFSETTO:+0200
TZNAME:CEST
DTSTART:20240331T010000
END:DAYLIGHT
BEGIN:STANDARD
TZOFFSETFROM:+0200
TZOFFSETTO:+0100
TZNAME:CET
DTSTART:20241027T010000
END:STANDARD
BEGIN:DAYLIGHT
TZOFFSETFROM:+0100
TZOFFSETTO:+0200
TZNAME:CEST
DTSTART:20250330T010000
END:DAYLIGHT
BEGIN:STANDARD
TZOFFSETFROM:+0200
TZOFFSETTO:+0100
TZNAME:CET
DTSTART:20251026T010000
END:STANDARD
BEGIN:DAYLIGHT
TZOFFSETFROM:+0100
TZOFFSETTO:+0200
TZNAME:CEST
DTSTART:20260329T010000
END:DAYLIGHT
BEGIN:STANDARD
TZOFFSETFROM:+0200
TZOFFSETTO:+0100
TZNAME:CET
DTSTART:20261025T010000
END:STANDARD
END:VTIMEZONE
BEGIN:VEVENT
DTSTART;TZID=Europe/Paris:20251205T190000
DTEND;TZID=Europe/Paris:20251205T223000
DTSTAMP:20260419T172650
CREATED:20251110T195341Z
LAST-MODIFIED:20251124T105309Z
UID:3467-1764961200-1764973800@jumelage-stgermain-ayr.fr
SUMMARY:Soirée Fléchettes
DESCRIPTION:Inscription soirée fléchettes 2025
URL:https://jumelage-stgermain-ayr.fr/event/soiree-flechettes/
LOCATION:Salle du Colombier\, 146 rue du président Roosevelt\, Saint-Germain-en-Laye\, 78100\, France
ATTACH;FMTTYPE=image/jpeg:https://jumelage-stgermain-ayr.fr/wp-content/uploads/2025/11/Soiree-flechettes-2025.jpg
ORGANIZER;CN="Association des Amis du Jumelage Saint Germain en Laye":MAILTO:jumsglayr@gmail.com
END:VEVENT
END:VCALENDAR