BEGIN:VCALENDAR
VERSION:2.0
PRODID:-//Amis du Jumelage Saint-Germain-en-Laye / Ayr - ECPv6.15.20//NONSGML v1.0//EN
CALSCALE:GREGORIAN
METHOD:PUBLISH
X-WR-CALNAME:Amis du Jumelage Saint-Germain-en-Laye / Ayr
X-ORIGINAL-URL:https://jumelage-stgermain-ayr.fr
X-WR-CALDESC:Évènements pour Amis du Jumelage Saint-Germain-en-Laye / Ayr
REFRESH-INTERVAL;VALUE=DURATION:PT1H
X-Robots-Tag:noindex
X-PUBLISHED-TTL:PT1H
BEGIN:VTIMEZONE
TZID:Europe/Paris
BEGIN:DAYLIGHT
TZOFFSETFROM:+0100
TZOFFSETTO:+0200
TZNAME:CEST
DTSTART:20240331T010000
END:DAYLIGHT
BEGIN:STANDARD
TZOFFSETFROM:+0200
TZOFFSETTO:+0100
TZNAME:CET
DTSTART:20241027T010000
END:STANDARD
BEGIN:DAYLIGHT
TZOFFSETFROM:+0100
TZOFFSETTO:+0200
TZNAME:CEST
DTSTART:20250330T010000
END:DAYLIGHT
BEGIN:STANDARD
TZOFFSETFROM:+0200
TZOFFSETTO:+0100
TZNAME:CET
DTSTART:20251026T010000
END:STANDARD
BEGIN:DAYLIGHT
TZOFFSETFROM:+0100
TZOFFSETTO:+0200
TZNAME:CEST
DTSTART:20260329T010000
END:DAYLIGHT
BEGIN:STANDARD
TZOFFSETFROM:+0200
TZOFFSETTO:+0100
TZNAME:CET
DTSTART:20261025T010000
END:STANDARD
END:VTIMEZONE
BEGIN:VEVENT
DTSTART;TZID=Europe/Paris:20250906T100000
DTEND;TZID=Europe/Paris:20250906T180000
DTSTAMP:20260419T230949
CREATED:20250829T101745Z
LAST-MODIFIED:20250829T133318Z
UID:3302-1757152800-1757181600@jumelage-stgermain-ayr.fr
SUMMARY:Forum des Associations de Saint-Germain-en-Laye
DESCRIPTION:Venez nous rencontrer au forum des associations qui se tiendra samedi 6 septembre\, place du marché
URL:https://jumelage-stgermain-ayr.fr/event/forum-des-associations-de-saint-germain-en-laye/
LOCATION:Saint-Germain-en-Laye\, Place du marché\, Saint-Germain-en-Laye\, 78100\, France
END:VEVENT
BEGIN:VEVENT
DTSTART;TZID=Europe/Paris:20250930T193000
DTEND;TZID=Europe/Paris:20250930T203000
DTSTAMP:20260419T230949
CREATED:20250829T110536Z
LAST-MODIFIED:20250829T110644Z
UID:3315-1759260600-1759264200@jumelage-stgermain-ayr.fr
SUMMARY:La cornemuse écossaise\, un instrument\, une culture\, un pays
DESCRIPTION:Venez découvrir les secrets de la cornemuse écossaise\, mardi 30 septembre à 19h30\, hotel de ville – salle multimédia. \nDirecteur du conservatoire musique\, danse et théâtre de Poissy\, notre célèbre et excellent piper\, Tristan Clédat\, nous dévoilera les secrets du plus emblématique des instruments de musique écossais.
URL:https://jumelage-stgermain-ayr.fr/event/la-cornemuse-ecossaise-un-instrument-une-culture-un-pays/
LOCATION:Salle multimédia de l’hôtel de ville\, 16 rue de Pontoise\, St Germain en Laye\, Yvelines\, 78100\, France
CATEGORIES:Les conférences du JumStGAyr
ATTACH;FMTTYPE=application/pdf:https://jumelage-stgermain-ayr.fr/wp-content/uploads/2025/08/20250930_Ayr_Conf-Cornemuse-AfficheVF.pdf
ORGANIZER;CN="Association des Amis du Jumelage Saint Germain en Laye":MAILTO:jumsglayr@gmail.com
END:VEVENT
END:VCALENDAR