BEGIN:VCALENDAR
VERSION:2.0
PRODID:-//Amis du Jumelage Saint-Germain-en-Laye / Ayr - ECPv6.15.20//NONSGML v1.0//EN
CALSCALE:GREGORIAN
METHOD:PUBLISH
X-WR-CALNAME:Amis du Jumelage Saint-Germain-en-Laye / Ayr
X-ORIGINAL-URL:https://jumelage-stgermain-ayr.fr
X-WR-CALDESC:Évènements pour Amis du Jumelage Saint-Germain-en-Laye / Ayr
REFRESH-INTERVAL;VALUE=DURATION:PT1H
X-Robots-Tag:noindex
X-PUBLISHED-TTL:PT1H
BEGIN:VTIMEZONE
TZID:Europe/Paris
BEGIN:DAYLIGHT
TZOFFSETFROM:+0100
TZOFFSETTO:+0200
TZNAME:CEST
DTSTART:20230326T010000
END:DAYLIGHT
BEGIN:STANDARD
TZOFFSETFROM:+0200
TZOFFSETTO:+0100
TZNAME:CET
DTSTART:20231029T010000
END:STANDARD
BEGIN:DAYLIGHT
TZOFFSETFROM:+0100
TZOFFSETTO:+0200
TZNAME:CEST
DTSTART:20240331T010000
END:DAYLIGHT
BEGIN:STANDARD
TZOFFSETFROM:+0200
TZOFFSETTO:+0100
TZNAME:CET
DTSTART:20241027T010000
END:STANDARD
BEGIN:DAYLIGHT
TZOFFSETFROM:+0100
TZOFFSETTO:+0200
TZNAME:CEST
DTSTART:20250330T010000
END:DAYLIGHT
BEGIN:STANDARD
TZOFFSETFROM:+0200
TZOFFSETTO:+0100
TZNAME:CET
DTSTART:20251026T010000
END:STANDARD
END:VTIMEZONE
BEGIN:VEVENT
DTSTART;TZID=Europe/Paris:20240429T190000
DTEND;TZID=Europe/Paris:20240429T210000
DTSTAMP:20260422T032053
CREATED:20240305T155350Z
LAST-MODIFIED:20240314T102208Z
UID:3268-1714417200-1714424400@jumelage-stgermain-ayr.fr
SUMMARY:ASSEMBLÉE GÉNÉRALE ORDINAIRE   DATE MODIFIÉE
DESCRIPTION:Compte tenu de l’indisponibilité de notre trésorier pour raison médicale  la date de notre Assemblée générale 2024 a été modifiée comme suit : \nLe Lundi 29 Avril 2024 se tiendra l’assemblée générale ordinaire de l’association à 19h00 précise à la salle des Arts du MAS  rue de la république \nL’ordre du jour  est : \n1) Approbation du compte rendu de l’assemblée générale ordinaire du 4 Avril 2023 \n2) Rapport moral et d’activités de l’année 2023 \n3) Rapport Financier de l’année 2023 \n4) Élection des membres du Conseil d’administration : 6 postes à pourvoir. \ndemandent le renouvellement de leur mandat : \nAnnie Divaret Hepburn \nFrançoise Floride \nJean Lathuillière \nFrédérik Rinck \n5) Projets pour 2024 \n 
URL:https://jumelage-stgermain-ayr.fr/event/assemblee-generale-ordinaire/
LOCATION:Le MAS\, rue de la République\, Saint Germain-en-Laye\, Yvelines\, 78100\, France
END:VEVENT
END:VCALENDAR